BEGIN:VCALENDAR
VERSION:2.0
PRODID:-//MRSÖ-Mondioring Sporthunde Österreich - ECPv4.6.14.1//NONSGML v1.0//EN
CALSCALE:GREGORIAN
METHOD:PUBLISH
X-WR-CALNAME:MRSÖ-Mondioring Sporthunde Österreich
X-ORIGINAL-URL:https://www.mondioring-austria.at
X-WR-CALDESC:Veranstaltungen für MRSÖ-Mondioring Sporthunde Österreich
BEGIN:VEVENT
DTSTART;TZID=Europe/Vienna:20220610T080000
DTEND;TZID=Europe/Vienna:20220612T170000
DTSTAMP:20260423T204256
CREATED:20220508T181353Z
LAST-MODIFIED:20220508T181353Z
UID:1191-1654848000-1655053200@www.mondioring-austria.at
SUMMARY:Österreichisch/Tschechische Mondioring Staatsmeisterschaft
DESCRIPTION:\n\n	Ähnliche Beiträge\n
URL:https://www.mondioring-austria.at/index.php/event/oesterreichischtschechische-mondioring-staatsmeisterschaft/
END:VEVENT
END:VCALENDAR