BEGIN:VCALENDAR
VERSION:2.0
PRODID:-//MRSÖ-Mondioring Sporthunde Österreich - ECPv4.6.14.1//NONSGML v1.0//EN
CALSCALE:GREGORIAN
METHOD:PUBLISH
X-WR-CALNAME:MRSÖ-Mondioring Sporthunde Österreich
X-ORIGINAL-URL:https://www.mondioring-austria.at
X-WR-CALDESC:Veranstaltungen für MRSÖ-Mondioring Sporthunde Österreich
BEGIN:VEVENT
DTSTART;TZID=Europe/Vienna:20220827T080000
DTEND;TZID=Europe/Vienna:20220828T170000
DTSTAMP:20260423T204036
CREATED:20220508T180944Z
LAST-MODIFIED:20220508T180944Z
UID:1189-1661587200-1661706000@www.mondioring-austria.at
SUMMARY:ÖRV HSV Unterpremstätten
DESCRIPTION:Mondioring Turnier beim ÖRV HSV Unterpremstätten \nMotto: Indiana Jones und das Königreich des Mondioring \n\n\n	Ähnliche Beiträge\n
URL:https://www.mondioring-austria.at/index.php/event/oerv-hsv-unterpremstaetten/
END:VEVENT
END:VCALENDAR