BEGIN:VCALENDAR
VERSION:2.0
PRODID:-//MRSÖ-Mondioring Sporthunde Österreich - ECPv4.6.14.1//NONSGML v1.0//EN
CALSCALE:GREGORIAN
METHOD:PUBLISH
X-WR-CALNAME:MRSÖ-Mondioring Sporthunde Österreich
X-ORIGINAL-URL:https://www.mondioring-austria.at
X-WR-CALDESC:Veranstaltungen für MRSÖ-Mondioring Sporthunde Österreich
BEGIN:VEVENT
DTSTART;VALUE=DATE:20231011
DTEND;VALUE=DATE:20231016
DTSTAMP:20260423T203944
CREATED:20231006T092230Z
LAST-MODIFIED:20231006T092230Z
UID:1250-1696982400-1697414399@www.mondioring-austria.at
SUMMARY:2023 FCI Mondioring Word Championship
DESCRIPTION:\n\n	Ähnliche Beiträge\n
URL:https://www.mondioring-austria.at/index.php/event/2023-fci-mondioring-word-championship/
END:VEVENT
END:VCALENDAR